BEGIN:VCALENDAR
VERSION:2.0
PRODID:-//La casita del yoga - ECPv6.15.16//NONSGML v1.0//EN
CALSCALE:GREGORIAN
METHOD:PUBLISH
X-ORIGINAL-URL:https://lacasitadelyoga.es
X-WR-CALDESC:Eventos para La casita del yoga
REFRESH-INTERVAL;VALUE=DURATION:PT1H
X-Robots-Tag:noindex
X-PUBLISHED-TTL:PT1H
BEGIN:VTIMEZONE
TZID:Europe/Madrid
BEGIN:DAYLIGHT
TZOFFSETFROM:+0100
TZOFFSETTO:+0200
TZNAME:CEST
DTSTART:20230326T010000
END:DAYLIGHT
BEGIN:STANDARD
TZOFFSETFROM:+0200
TZOFFSETTO:+0100
TZNAME:CET
DTSTART:20231029T010000
END:STANDARD
BEGIN:DAYLIGHT
TZOFFSETFROM:+0100
TZOFFSETTO:+0200
TZNAME:CEST
DTSTART:20240331T010000
END:DAYLIGHT
BEGIN:STANDARD
TZOFFSETFROM:+0200
TZOFFSETTO:+0100
TZNAME:CET
DTSTART:20241027T010000
END:STANDARD
BEGIN:DAYLIGHT
TZOFFSETFROM:+0100
TZOFFSETTO:+0200
TZNAME:CEST
DTSTART:20250330T010000
END:DAYLIGHT
BEGIN:STANDARD
TZOFFSETFROM:+0200
TZOFFSETTO:+0100
TZNAME:CET
DTSTART:20251026T010000
END:STANDARD
END:VTIMEZONE
BEGIN:VEVENT
DTSTART;VALUE=DATE:20240510
DTEND;VALUE=DATE:20240601
DTSTAMP:20260424T231808
CREATED:20240430T101358Z
LAST-MODIFIED:20240831T085830Z
UID:10000007-1715299200-1717199999@lacasitadelyoga.es
SUMMARY:Limpieza digestiva y ayuno con Silvia Juarez
DESCRIPTION:🍋 LIMPIEZA DIGESTIVA Y AYUNO en mayo🥑\nSi sientes que ha llegado el momento de liberarte de esa pesadez que te acompaña\, recuperar toda tu vitalidad y desinflamarte…no esperes más ¡Únete a laTRIBU👭! \n \n \n_¿Qué incluye?_ \n▪️ *Grupo privado de acompañamiento y apoyo diario* \n▪️ Plan DETOX:*21 días de limpieza y ayuno* \n▪️ *3 quedadas grupales online* \n▪️ *Protocolos exclusivos detallados*\, semana por semana \n▪️ *Videotutoriales* detallados \n▪️ *Material y contenido extra* exclusivo \n▪️ *Rutina diaria de yoga* (colabora Verónica Valero – La casita del yoga) \n \n▪️ *Uso de aceites esenciales* (colabora Raquel Aldeano – Amorática) \n▪️ *Lista de la compra* \n▪️ *Guía Shopping saludable* \n▪️ *Guía profesional* cualificada con larga experiencia \n_Hasta el 30 de abril hay un bonito descuento_ \n \n-Más información: \n\nwww.silviajuarez.es\nTLF: 667 39 58 12\n\n                                                                                         \n❣️Deseando que formes parte de esta TRIBU que ya está creciendo❣️
URL:https://lacasitadelyoga.es/evento/ayuno-con-silvia-juarez-mayo/
LOCATION:Madrid
ATTACH;FMTTYPE=image/png:https://lacasitadelyoga.es/wp-content/uploads/2024/04/Captura-de-pantalla-2024-04-30-a-las-11.50.22-e1725094703980.png
END:VEVENT
BEGIN:VEVENT
DTSTART;VALUE=DATE:20240523
DTEND;VALUE=DATE:20240524
DTSTAMP:20260424T231808
CREATED:20240421T140155Z
LAST-MODIFIED:20240430T170458Z
UID:10000006-1716422400-1716508799@lacasitadelyoga.es
SUMMARY:BAÑO DE GONG LUNA WESAK
DESCRIPTION:Nos unimos a la meditación mundial celebrando la Luna Wesak con un Baño de Gong a dos mazas el próximo 23 de mayo en Las Rozas. \nVesak\, el día del plenilunio en el mes de mayo\, es el día mas sagrado para millones de budistas en todo el mundo. Fue en el día de Vesak\, hace 2500 años\, en el año 623 a.C. cuando nació Buda\, Siddharta Gautama. Igualmente\, fue el día en que Buda alcanzó la iluminación y falleció a los 80 años de edad.
URL:https://lacasitadelyoga.es/evento/bano-de-gong-luna-wesak/
LOCATION:wergym\, c/ escalerilla 3\, Las Rozas de Madrid\, Madrid\, 28231\, España
ATTACH;FMTTYPE=image/jpeg:https://lacasitadelyoga.es/wp-content/uploads/2024/04/luna-wesak-publicacion.jpeg
ORGANIZER;CN="Ver%C3%B3nica Valero":MAILTO:veronica@lacasitadelyoga.es
END:VEVENT
END:VCALENDAR