BEGIN:VCALENDAR
VERSION:2.0
PRODID:-//La casita del yoga - ECPv6.15.16//NONSGML v1.0//EN
CALSCALE:GREGORIAN
METHOD:PUBLISH
X-WR-CALNAME:La casita del yoga
X-ORIGINAL-URL:https://lacasitadelyoga.es
X-WR-CALDESC:Eventos para La casita del yoga
REFRESH-INTERVAL;VALUE=DURATION:PT1H
X-Robots-Tag:noindex
X-PUBLISHED-TTL:PT1H
BEGIN:VTIMEZONE
TZID:Europe/Madrid
BEGIN:DAYLIGHT
TZOFFSETFROM:+0100
TZOFFSETTO:+0200
TZNAME:CEST
DTSTART:20230326T010000
END:DAYLIGHT
BEGIN:STANDARD
TZOFFSETFROM:+0200
TZOFFSETTO:+0100
TZNAME:CET
DTSTART:20231029T010000
END:STANDARD
BEGIN:DAYLIGHT
TZOFFSETFROM:+0100
TZOFFSETTO:+0200
TZNAME:CEST
DTSTART:20240331T010000
END:DAYLIGHT
BEGIN:STANDARD
TZOFFSETFROM:+0200
TZOFFSETTO:+0100
TZNAME:CET
DTSTART:20241027T010000
END:STANDARD
BEGIN:DAYLIGHT
TZOFFSETFROM:+0100
TZOFFSETTO:+0200
TZNAME:CEST
DTSTART:20250330T010000
END:DAYLIGHT
BEGIN:STANDARD
TZOFFSETFROM:+0200
TZOFFSETTO:+0100
TZNAME:CET
DTSTART:20251026T010000
END:STANDARD
END:VTIMEZONE
BEGIN:VEVENT
DTSTART;TZID=Europe/Madrid:20240601T113000
DTEND;TZID=Europe/Madrid:20240601T130000
DTSTAMP:20260424T215513
CREATED:20231106T183745Z
LAST-MODIFIED:20240422T143308Z
UID:10000003-1717241400-1717246800@lacasitadelyoga.es
SUMMARY:Yoga Nidra
DESCRIPTION:Yoga Nidra es una práctica de meditación que nos permite acceder a bloqueos sutiles del subsconsciente y liberarlos\, haceindo que nuestra energía vital (Prana) circule saludablemente tanto en el plano físico\, mental\, emocional o energético. \nLa Reservas previo pago por bizum al número 603038989 (Elena Martín)
URL:https://lacasitadelyoga.es/evento/yoga-nidra-junio-2024/
LOCATION:Pilates con Elena\, C/ independecia 3\, El Escorial\, Madrid\, 28200\, España
ATTACH;FMTTYPE=image/jpeg:https://lacasitadelyoga.es/wp-content/uploads/2023/11/WhatsApp-Image-2024-04-21-at-14.07.02.jpeg
ORGANIZER;CN="Ver%C3%B3nica Valero":MAILTO:veronica@lacasitadelyoga.es
END:VEVENT
END:VCALENDAR