BEGIN:VCALENDAR
VERSION:2.0
PRODID:-//La casita del yoga - ECPv6.15.16//NONSGML v1.0//EN
CALSCALE:GREGORIAN
METHOD:PUBLISH
X-WR-CALNAME:La casita del yoga
X-ORIGINAL-URL:https://lacasitadelyoga.es
X-WR-CALDESC:Eventos para La casita del yoga
REFRESH-INTERVAL;VALUE=DURATION:PT1H
X-Robots-Tag:noindex
X-PUBLISHED-TTL:PT1H
BEGIN:VTIMEZONE
TZID:Europe/Madrid
BEGIN:DAYLIGHT
TZOFFSETFROM:+0100
TZOFFSETTO:+0200
TZNAME:CEST
DTSTART:20230326T010000
END:DAYLIGHT
BEGIN:STANDARD
TZOFFSETFROM:+0200
TZOFFSETTO:+0100
TZNAME:CET
DTSTART:20231029T010000
END:STANDARD
BEGIN:DAYLIGHT
TZOFFSETFROM:+0100
TZOFFSETTO:+0200
TZNAME:CEST
DTSTART:20240331T010000
END:DAYLIGHT
BEGIN:STANDARD
TZOFFSETFROM:+0200
TZOFFSETTO:+0100
TZNAME:CET
DTSTART:20241027T010000
END:STANDARD
BEGIN:DAYLIGHT
TZOFFSETFROM:+0100
TZOFFSETTO:+0200
TZNAME:CEST
DTSTART:20250330T010000
END:DAYLIGHT
BEGIN:STANDARD
TZOFFSETFROM:+0200
TZOFFSETTO:+0100
TZNAME:CET
DTSTART:20251026T010000
END:STANDARD
END:VTIMEZONE
BEGIN:VEVENT
DTSTART;TZID=Europe/Madrid:20240628T200000
DTEND;TZID=Europe/Madrid:20240628T211500
DTSTAMP:20260424T215506
CREATED:20240625T112508Z
LAST-MODIFIED:20240625T114427Z
UID:10000008-1719604800-1719609300@lacasitadelyoga.es
SUMMARY:Baño de Gong Torrelodones 28 de junio 2024
DESCRIPTION:🕉️ Baño de Gong próximo viernes 28 junio.\n🕉️ Precio reducido para este baño de Gong\, último de la temporada.\n🕉️ Disfruta de una sesión de relajación consciente bajo la vibración y los efectos de este potente instrumento.\n🕉️ Te espero 🙏\, Por favor confirma tu reserva llamando al 666 75 37 72
URL:https://lacasitadelyoga.es/evento/bano-de-gong-torrelodones-28-de-junio-2024/
LOCATION:Cultura clandestina\, Avenida peñalar 29\, Torrelodones\, Madrid\, 28250\, España
ATTACH;FMTTYPE=image/jpeg:https://lacasitadelyoga.es/wp-content/uploads/2024/06/banodegong_veronica_valero.jpeg
ORGANIZER;CN="Ver%C3%B3nica Valero":MAILTO:veronica@lacasitadelyoga.es
END:VEVENT
END:VCALENDAR