BEGIN:VCALENDAR
VERSION:2.0
PRODID:-//La casita del yoga - ECPv6.15.16//NONSGML v1.0//EN
CALSCALE:GREGORIAN
METHOD:PUBLISH
X-ORIGINAL-URL:https://lacasitadelyoga.es
X-WR-CALDESC:Eventos para La casita del yoga
REFRESH-INTERVAL;VALUE=DURATION:PT1H
X-Robots-Tag:noindex
X-PUBLISHED-TTL:PT1H
BEGIN:VTIMEZONE
TZID:Europe/Madrid
BEGIN:DAYLIGHT
TZOFFSETFROM:+0100
TZOFFSETTO:+0200
TZNAME:CEST
DTSTART:20240331T010000
END:DAYLIGHT
BEGIN:STANDARD
TZOFFSETFROM:+0200
TZOFFSETTO:+0100
TZNAME:CET
DTSTART:20241027T010000
END:STANDARD
BEGIN:DAYLIGHT
TZOFFSETFROM:+0100
TZOFFSETTO:+0200
TZNAME:CEST
DTSTART:20250330T010000
END:DAYLIGHT
BEGIN:STANDARD
TZOFFSETFROM:+0200
TZOFFSETTO:+0100
TZNAME:CET
DTSTART:20251026T010000
END:STANDARD
BEGIN:DAYLIGHT
TZOFFSETFROM:+0100
TZOFFSETTO:+0200
TZNAME:CEST
DTSTART:20260329T010000
END:DAYLIGHT
BEGIN:STANDARD
TZOFFSETFROM:+0200
TZOFFSETTO:+0100
TZNAME:CET
DTSTART:20261025T010000
END:STANDARD
END:VTIMEZONE
BEGIN:VEVENT
DTSTART;TZID=Europe/Madrid:20250314T183000
DTEND;TZID=Europe/Madrid:20250314T200000
DTSTAMP:20260421T085615
CREATED:20250304T104850Z
LAST-MODIFIED:20250304T135623Z
UID:10000014-1741977000-1741982400@lacasitadelyoga.es
SUMMARY:Yoga Nidra. La puerta de entrada al samadhi
DESCRIPTION:Reservas: 666753772 (Verónica)
URL:https://lacasitadelyoga.es/evento/yoga-nidra-la-puerta-de-entrada-al-samadhi/
LOCATION:Pilates con Elena\, C/ independecia 3\, El Escorial\, Madrid\, 28200\, España
ATTACH;FMTTYPE=image/jpeg:https://lacasitadelyoga.es/wp-content/uploads/2025/03/yoga_nidra_veronica_valero_14-marzo_2025.jpeg
END:VEVENT
END:VCALENDAR