BEGIN:VCALENDAR
VERSION:2.0
PRODID:-//La casita del yoga - ECPv6.15.16//NONSGML v1.0//EN
CALSCALE:GREGORIAN
METHOD:PUBLISH
X-WR-CALNAME:La casita del yoga
X-ORIGINAL-URL:https://lacasitadelyoga.es
X-WR-CALDESC:Eventos para La casita del yoga
REFRESH-INTERVAL;VALUE=DURATION:PT1H
X-Robots-Tag:noindex
X-PUBLISHED-TTL:PT1H
BEGIN:VTIMEZONE
TZID:Europe/Madrid
BEGIN:DAYLIGHT
TZOFFSETFROM:+0100
TZOFFSETTO:+0200
TZNAME:CEST
DTSTART:20230326T010000
END:DAYLIGHT
BEGIN:STANDARD
TZOFFSETFROM:+0200
TZOFFSETTO:+0100
TZNAME:CET
DTSTART:20231029T010000
END:STANDARD
BEGIN:DAYLIGHT
TZOFFSETFROM:+0100
TZOFFSETTO:+0200
TZNAME:CEST
DTSTART:20240331T010000
END:DAYLIGHT
BEGIN:STANDARD
TZOFFSETFROM:+0200
TZOFFSETTO:+0100
TZNAME:CET
DTSTART:20241027T010000
END:STANDARD
BEGIN:DAYLIGHT
TZOFFSETFROM:+0100
TZOFFSETTO:+0200
TZNAME:CEST
DTSTART:20250330T010000
END:DAYLIGHT
BEGIN:STANDARD
TZOFFSETFROM:+0200
TZOFFSETTO:+0100
TZNAME:CET
DTSTART:20251026T010000
END:STANDARD
BEGIN:DAYLIGHT
TZOFFSETFROM:+0100
TZOFFSETTO:+0200
TZNAME:CEST
DTSTART:20260329T010000
END:DAYLIGHT
BEGIN:STANDARD
TZOFFSETFROM:+0200
TZOFFSETTO:+0100
TZNAME:CET
DTSTART:20261025T010000
END:STANDARD
BEGIN:DAYLIGHT
TZOFFSETFROM:+0100
TZOFFSETTO:+0200
TZNAME:CEST
DTSTART:20270328T010000
END:DAYLIGHT
BEGIN:STANDARD
TZOFFSETFROM:+0200
TZOFFSETTO:+0100
TZNAME:CET
DTSTART:20271031T010000
END:STANDARD
END:VTIMEZONE
BEGIN:VEVENT
DTSTART;TZID=Europe/Madrid:20240913T200000
DTEND;TZID=Europe/Madrid:20240913T211500
DTSTAMP:20260425T144155
CREATED:20240831T084032Z
LAST-MODIFIED:20240831T102153Z
UID:10000011-1726257600-1726262100@lacasitadelyoga.es
SUMMARY:Baño de Gong bajo las estrellas
DESCRIPTION:Sumérgete en un baño de Gong bajo las estrellas en un entorno maravilloso. \nDia 13 de sept 2024 en Torrrelodones (Madrid). Zona Peñascales. Se dara ubicación exacta en la reserva. \n20 € por persona \nImprescindible reserva de 5 € (Contactar para reserva por whatsapp) \nResto en metálico a la entrada.
URL:https://lacasitadelyoga.es/evento/bano-de-gong-bajo-las-estrellas/
LOCATION:Cultura clandestina\, Avenida peñalar 29\, Torrelodones\, Madrid\, 28250\, España
ATTACH;FMTTYPE=image/jpeg:https://lacasitadelyoga.es/wp-content/uploads/2024/08/bano-de-gong_veronica-valero-sept-2024-1.jpg
ORGANIZER;CN="Ver%C3%B3nica Valero":MAILTO:veronica@lacasitadelyoga.es
END:VEVENT
BEGIN:VEVENT
DTSTART;TZID=Europe/Madrid:20240921T113000
DTEND;TZID=Europe/Madrid:20240921T213000
DTSTAMP:20260425T144155
CREATED:20240831T075507Z
LAST-MODIFIED:20240831T110504Z
UID:10000010-1726918200-1726954200@lacasitadelyoga.es
SUMMARY:Ven a La Berrea el 21 de septiembre
DESCRIPTION:Nos juntamos para disfrutar de una jornada completa de autocuidado\, en un espacio maravilloso; Casa Eñe\, en la Berzosa\, al lado de Torrelodones.\nLa Berrea nos brinda la oportunidad de observarnos y trabajarnos a través del disfrute y el compartir.\nLa combinación perfecta de:\n•Clase de arquetipos y Chakras por María Eiwa\n•Clase de Hatha Yoga dirigida a la activación de cada centro energético\, por Verónica Valero\n•Ecstatic Dance Live Music\, por Januman García\n•Baño de Gong bajo el cielo por Verónica Valero. \nTarifa:\n• Hasta el 31 de Julio-> Promoción 2 personas 65€ por persona\n• Desde el 1 de agosto-> 80€ por persona\n(Comida campera incluida)
URL:https://lacasitadelyoga.es/evento/ven-a-la-berrea-el-21-de-septiembre/
LOCATION:casa ñ\, La Berzosa\, Hoyo de Manzanares\, Madrid\, 28248\, España
ATTACH;FMTTYPE=image/jpeg:https://lacasitadelyoga.es/wp-content/uploads/2024/08/laberrea_veronica_valero.jpg
ORGANIZER;CN="Ver%C3%B3nica Valero":MAILTO:veronica@lacasitadelyoga.es
END:VEVENT
BEGIN:VEVENT
DTSTART;TZID=Europe/Madrid:20241018T183000
DTEND;TZID=Europe/Madrid:20241018T200000
DTSTAMP:20260425T144155
CREATED:20241008T133556Z
LAST-MODIFIED:20241008T155551Z
UID:10000012-1729276200-1729281600@lacasitadelyoga.es
SUMMARY:YOGA NIDRA 18 OCTUBRE 2024
DESCRIPTION:Yoga Nidra es una práctica de meditación que nos permite acceder a bloqueos sutiles del subconsciente y liberarlos\, haciendo que nuestra energía vital o prana circule saludablemente tanto en el plano físico\, mental\, emocional y energético.\nSe ruega puntualidad\, nos vemos el 18 de octubre.
URL:https://lacasitadelyoga.es/evento/yoga-nidra-18-octubre-2024/
LOCATION:Pilates con Elena\, C/ independecia 3\, El Escorial\, Madrid\, 28200\, España
ATTACH;FMTTYPE=image/jpeg:https://lacasitadelyoga.es/wp-content/uploads/2024/10/nidra-18-oct.jpeg
ORGANIZER;CN="Ver%C3%B3nica Valero":MAILTO:veronica@lacasitadelyoga.es
END:VEVENT
BEGIN:VEVENT
DTSTART;TZID=Europe/Madrid:20241122T183000
DTEND;TZID=Europe/Madrid:20241122T200000
DTSTAMP:20260425T144155
CREATED:20241118T225857Z
LAST-MODIFIED:20241122T181208Z
UID:10000013-1732300200-1732305600@lacasitadelyoga.es
SUMMARY:Gong 4 all
DESCRIPTION:Día internacional de la música.\nCompletamos el estudio » Beneficios físicos emocionales de un baño de Gong»\, con una actividad de Kirtan Kriya y baño de Gong el próximo 22 de nov en Las Matas.\nAportación integra para afectados de la gota fría en Valencia
URL:https://lacasitadelyoga.es/evento/gong-4-all/
LOCATION:Yoga Las Matas\, Calle Ibiza\, Las Matas\, Madrid\, 28290\, España
ATTACH;FMTTYPE=image/jpeg:https://lacasitadelyoga.es/wp-content/uploads/2024/11/WhatsApp-Image-2024-11-18-at-14.09.22.jpeg
ORGANIZER;CN="Ver%C3%B3nica Valero":MAILTO:veronica@lacasitadelyoga.es
END:VEVENT
BEGIN:VEVENT
DTSTART;TZID=Europe/Madrid:20250314T183000
DTEND;TZID=Europe/Madrid:20250314T200000
DTSTAMP:20260425T144155
CREATED:20250304T104850Z
LAST-MODIFIED:20250304T135623Z
UID:10000014-1741977000-1741982400@lacasitadelyoga.es
SUMMARY:Yoga Nidra. La puerta de entrada al samadhi
DESCRIPTION:Reservas: 666753772 (Verónica)
URL:https://lacasitadelyoga.es/evento/yoga-nidra-la-puerta-de-entrada-al-samadhi/
LOCATION:Pilates con Elena\, C/ independecia 3\, El Escorial\, Madrid\, 28200\, España
ATTACH;FMTTYPE=image/jpeg:https://lacasitadelyoga.es/wp-content/uploads/2025/03/yoga_nidra_veronica_valero_14-marzo_2025.jpeg
END:VEVENT
BEGIN:VEVENT
DTSTART;TZID=Europe/Madrid:20250524T103000
DTEND;TZID=Europe/Madrid:20250524T140000
DTSTAMP:20260425T144155
CREATED:20250522T102200Z
LAST-MODIFIED:20250522T102200Z
UID:10000015-1748082600-1748095200@lacasitadelyoga.es
SUMMARY:Sankalpa
DESCRIPTION:🌾Sankalpa significa propósito en sánscrito.\n🌾Te invitamos a conectar con tu intención para desbloquear lo que ya no te aporta y generar un cambio positivo en tu vida.\n🌾 Con movimiento corporal y respiraciones conscientes de Kundalini Yoga activarás el flujo de tu energía para descubrir lo que necesitas resolver y el camino para conseguirlo.\n🌾La vibración del Baño de Gong te relajará profundamente para nutrir la semilla de tu intención desde la confianza de que la Madre Tierra apoya tu propósito.\n🌾 Co-crear tu realidad como la fuerza vital que eres es tu derecho\, tu responsabilidad y puede ser una experiencia placentera. \n🌾Te esperamos! \n🌾Sábado 24 de mayo\, 10h30 a 14h\n🌾La Casita del Yoga – Torrelodones\n🌾Precio: 40€\nInfo\, reservas y pagos por bizum:\nVeronica 666753772\nSahiba 646404122 \n@lacasitadelyoga.es\n@dayanasahiba
URL:https://lacasitadelyoga.es/evento/sankalpa/
LOCATION:Madrid
ATTACH;FMTTYPE=image/jpeg:https://lacasitadelyoga.es/wp-content/uploads/2025/05/WhatsApp-Image-2025-05-21-at-23.02.06.jpeg
ORGANIZER;CN="Ver%C3%B3nica Valero":MAILTO:veronica@lacasitadelyoga.es
END:VEVENT
BEGIN:VEVENT
DTSTART;TZID=Europe/Madrid:20250614T110000
DTEND;TZID=Europe/Madrid:20250614T130000
DTSTAMP:20260425T144155
CREATED:20250603T180352Z
LAST-MODIFIED:20250603T201634Z
UID:10000016-1749898800-1749906000@lacasitadelyoga.es
SUMMARY:Taller iniciación Yoga Facial
DESCRIPTION:Conoce el yoga facial\, a través de ejercicios sencillos de gimnasia facial\, estiramientos\, respiración y masaje con rodillo aprenderás a tonificar\, relajar y rejuvenecer tu rostro de manera natural y podrás integrarlo en tu día a día. \nTe mereces esta bonita experiencia 💚 \n📆 Sábado 14 junio 11:00h. – 13:00h. \n🏠Espacio: La Casita del Yoga ( Torrelodones) \n⚛️ Aportación: 30€ \n🎁 De regalo para ti un rodillo de masaje facial de cuarzo rosa para que puedas seguir practicando en casa \nNo te quedes sin tu plaza\, reserva ya: *Verónica: 666 75 37 72
URL:https://lacasitadelyoga.es/evento/taller-iniciacion-yoga-facial/
LOCATION:La Casita del Yoga\, Pl. de José María Unceta\, s/n\, Torrelodones\, Madrid\, 28250\, España
ATTACH;FMTTYPE=image/jpeg:https://lacasitadelyoga.es/wp-content/uploads/2025/06/masaje_facial_la_casita_del_yoga.jpg
ORGANIZER;CN="Ver%C3%B3nica Valero":MAILTO:veronica@lacasitadelyoga.es
END:VEVENT
BEGIN:VEVENT
DTSTART;TZID=Europe/Madrid:20251004T180000
DTEND;TZID=Europe/Madrid:20251004T210000
DTSTAMP:20260425T144155
CREATED:20250915T145256Z
LAST-MODIFIED:20250915T145345Z
UID:10000017-1759600800-1759611600@lacasitadelyoga.es
SUMMARY:Ecstatic Dance 4 octubre 2025 Januman Torrelodones
DESCRIPTION:Ecstatic con JANUMAN GARCÍA en Torrelodones!! \nEn un espacio luminoso\, acogedor y amplio. La Casita del Yoga es una casa de madera en medio de un encinar\, con facilidad de aparcamiento en la puerta. \n📨 Recuerda que habrá un espacio para dejar tus carta de presentación de tu negocio o activadas\, si lo deseas\, y así conocernos más. Somos comunidad. \nRva por bizum: 10€ al 666 753 772 (Resto efectivo a la entrada. Por favor trae la cantidad justa)\n•Concepto bizum: Nombre apellido + Janu \nGracias!! Estamos muy contentos de teneros por aquí. \nJanu y Verónica 🧡
URL:https://lacasitadelyoga.es/evento/ecstatic-dance-4-octubre-2025-januman-torrelodones/
LOCATION:La Casita del Yoga\, Pl. de José María Unceta\, s/n\, Torrelodones\, Madrid\, 28250\, España
ATTACH;FMTTYPE=image/jpeg:https://lacasitadelyoga.es/wp-content/uploads/2025/09/static_dance_4_octubre_januman.jpg
ORGANIZER;CN="Ver%C3%B3nica Valero":MAILTO:veronica@lacasitadelyoga.es
END:VEVENT
BEGIN:VEVENT
DTSTART;TZID=Europe/Madrid:20260221T180000
DTEND;TZID=Europe/Madrid:20260221T210000
DTSTAMP:20260425T144155
CREATED:20260219T120622Z
LAST-MODIFIED:20260219T120705Z
UID:10000018-1771696800-1771707600@lacasitadelyoga.es
SUMMARY:Ecstatic Dance 21 febrero 2026 Januman Torrelodones
DESCRIPTION:Ecstatic con JANUMAN GARCÍA en Torrelodones!! \nEn un espacio luminoso\, acogedor y amplio. La Casita del Yoga es una casa de madera en medio de un encinar\, con facilidad de aparcamiento en la puerta. \n📨 Recuerda que habrá un espacio para dejar tus carta de presentación de tu negocio o activadas\, si lo deseas\, y así conocernos más. Somos comunidad. \nRva por bizum: 10€ al 666 753 772 (Resto\, 15€ efectivo a la entrada. Por favor trae la cantidad justa)\n•Concepto bizum: Nombre apellido + Janu \nGracias!! Estamos muy contentos de teneros por aquí. \nJanu y Verónica 🧡
URL:https://lacasitadelyoga.es/evento/ecstatic-dance-21-febrero-2026-januman-torrelodones/
LOCATION:La Casita del Yoga\, Pl. de José María Unceta\, s/n\, Torrelodones\, Madrid\, 28250\, España
ATTACH;FMTTYPE=image/jpeg:https://lacasitadelyoga.es/wp-content/uploads/2024/06/januman_lacasitadelyoga_ecstatic.jpeg
ORGANIZER;CN="Ver%C3%B3nica Valero":MAILTO:veronica@lacasitadelyoga.es
END:VEVENT
BEGIN:VEVENT
DTSTART;TZID=Europe/Madrid:20260321T180000
DTEND;TZID=Europe/Madrid:20260321T210000
DTSTAMP:20260425T144155
CREATED:20260318T162228Z
LAST-MODIFIED:20260318T165100Z
UID:10000019-1774116000-1774126800@lacasitadelyoga.es
SUMMARY:Ecstatic Dance 21 marzo 2026 Januman Torrelodones
DESCRIPTION:Ecstatic con JANUMAN GARCÍA en Torrelodones!! \nEn un espacio luminoso\, acogedor y amplio. La Casita del Yoga es una casa de madera en medio de un encinar\, con facilidad de aparcamiento en la puerta. \n📨 Recuerda que habrá un espacio para dejar tus cartas de presentación de tu negocio o actividades\, si lo deseas\, y así conocernos más. Somos comunidad. \nRva por bizum: 10€ al 666 753 772 (Resto\, 15€ efectivo a la entrada. Por favor trae la cantidad justa)\n•Concepto bizum: Nombre apellido + Janu \nGracias!! Estamos muy contentos de teneros por aquí. \nJanu y Verónica 🧡
URL:https://lacasitadelyoga.es/evento/ecstatic-dance-21-marzo-2026-januman-torrelodones/
LOCATION:La Casita del Yoga\, Pl. de José María Unceta\, s/n\, Torrelodones\, Madrid\, 28250\, España
ATTACH;FMTTYPE=image/jpeg:https://lacasitadelyoga.es/wp-content/uploads/2026/03/lacasita21marzojanuman.jpg
ORGANIZER;CN="Ver%C3%B3nica Valero":MAILTO:veronica@lacasitadelyoga.es
END:VEVENT
END:VCALENDAR