BEGIN:VCALENDAR
VERSION:2.0
PRODID:-//La casita del yoga - ECPv6.15.16//NONSGML v1.0//EN
CALSCALE:GREGORIAN
METHOD:PUBLISH
X-WR-CALNAME:La casita del yoga
X-ORIGINAL-URL:https://lacasitadelyoga.es
X-WR-CALDESC:Eventos para La casita del yoga
REFRESH-INTERVAL;VALUE=DURATION:PT1H
X-Robots-Tag:noindex
X-PUBLISHED-TTL:PT1H
BEGIN:VTIMEZONE
TZID:Europe/Madrid
BEGIN:DAYLIGHT
TZOFFSETFROM:+0100
TZOFFSETTO:+0200
TZNAME:CEST
DTSTART:20230326T010000
END:DAYLIGHT
BEGIN:STANDARD
TZOFFSETFROM:+0200
TZOFFSETTO:+0100
TZNAME:CET
DTSTART:20231029T010000
END:STANDARD
BEGIN:DAYLIGHT
TZOFFSETFROM:+0100
TZOFFSETTO:+0200
TZNAME:CEST
DTSTART:20240331T010000
END:DAYLIGHT
BEGIN:STANDARD
TZOFFSETFROM:+0200
TZOFFSETTO:+0100
TZNAME:CET
DTSTART:20241027T010000
END:STANDARD
BEGIN:DAYLIGHT
TZOFFSETFROM:+0100
TZOFFSETTO:+0200
TZNAME:CEST
DTSTART:20250330T010000
END:DAYLIGHT
BEGIN:STANDARD
TZOFFSETFROM:+0200
TZOFFSETTO:+0100
TZNAME:CET
DTSTART:20251026T010000
END:STANDARD
END:VTIMEZONE
BEGIN:VEVENT
DTSTART;TZID=Europe/Madrid:20240709T180000
DTEND;TZID=Europe/Madrid:20240709T191500
DTSTAMP:20260424T190557
CREATED:20240625T115124Z
LAST-MODIFIED:20240625T160605Z
UID:10000009-1720548000-1720552500@lacasitadelyoga.es
SUMMARY:Baño de Gong en El Escorial 9 julio
DESCRIPTION:Baño de Gong próximo martes de 9 julio.\n Disfruta de una sesión de relajación consciente bajo la vibración y los efectos de este potente instrumento.\n Aportacion 25 €. Te espero \, Por favor confirma tu reserva llamando al 603038989
URL:https://lacasitadelyoga.es/evento/bano-de-gong-en-el-escorial-9-julio/
LOCATION:Pilates con Elena\, C/ independecia 3\, El Escorial\, Madrid\, 28200\, España
ATTACH;FMTTYPE=image/jpeg:https://lacasitadelyoga.es/wp-content/uploads/2024/06/banodegong_escorial_veronica_valero.jpeg
ORGANIZER;CN="Ver%C3%B3nica Valero":MAILTO:veronica@lacasitadelyoga.es
END:VEVENT
END:VCALENDAR